BEGIN:VCALENDAR
VERSION:2.0
PRODID:-//Plan B Taphouse - ECPv6.0.13.1//NONSGML v1.0//EN
CALSCALE:GREGORIAN
METHOD:PUBLISH
X-WR-CALNAME:Plan B Taphouse
X-ORIGINAL-URL:https://planbtaphouse.com
X-WR-CALDESC:Events for Plan B Taphouse
REFRESH-INTERVAL;VALUE=DURATION:PT1H
X-Robots-Tag:noindex
X-PUBLISHED-TTL:PT1H
BEGIN:VTIMEZONE
TZID:America/Los_Angeles
BEGIN:DAYLIGHT
TZOFFSETFROM:-0800
TZOFFSETTO:-0700
TZNAME:PDT
DTSTART:20230312T100000
END:DAYLIGHT
BEGIN:STANDARD
TZOFFSETFROM:-0700
TZOFFSETTO:-0800
TZNAME:PST
DTSTART:20231105T090000
END:STANDARD
BEGIN:DAYLIGHT
TZOFFSETFROM:-0800
TZOFFSETTO:-0700
TZNAME:PDT
DTSTART:20240310T100000
END:DAYLIGHT
BEGIN:STANDARD
TZOFFSETFROM:-0700
TZOFFSETTO:-0800
TZNAME:PST
DTSTART:20241103T090000
END:STANDARD
BEGIN:DAYLIGHT
TZOFFSETFROM:-0800
TZOFFSETTO:-0700
TZNAME:PDT
DTSTART:20250309T100000
END:DAYLIGHT
BEGIN:STANDARD
TZOFFSETFROM:-0700
TZOFFSETTO:-0800
TZNAME:PST
DTSTART:20251102T090000
END:STANDARD
TZID:UTC
BEGIN:STANDARD
TZOFFSETFROM:+0000
TZOFFSETTO:+0000
TZNAME:UTC
DTSTART:20240101T000000
END:STANDARD
END:VTIMEZONE
BEGIN:VEVENT
DTSTART;VALUE=DATE:20250912
DTEND;VALUE=DATE:20250913
DTSTAMP:20260419T152555
CREATED:20250911T202120Z
LAST-MODIFIED:20250911T202120Z
UID:1624-1757635200-1757721599@planbtaphouse.com
SUMMARY:Joey Harkum
DESCRIPTION:Get ready to hear some amazing music from a talented musician. Give their music a listen before they join us at Plan B Taphouse! \nhttps://www.joeyharkum.com/
URL:https://planbtaphouse.com/event/joey-harkum/
LOCATION:plan B Taphouse\, 129 W 5th St\,\, Hanford\, CA\, 93230\, United States
CATEGORIES:Featured
ATTACH;FMTTYPE=image/jpeg:https://planbtaphouse.com/wp-content/uploads/2025/09/JoeyHarkum-PressPhoto-6.jpg
END:VEVENT
BEGIN:VEVENT
DTSTART;VALUE=DATE:20241017
DTEND;VALUE=DATE:20241018
DTSTAMP:20260419T152556
CREATED:20240922T184903Z
LAST-MODIFIED:20240922T184903Z
UID:1617-1729123200-1729209599@planbtaphouse.com
SUMMARY:Karaoke Night
DESCRIPTION:Come have some brews and sing your heart out.
URL:https://planbtaphouse.com/event/karaoke-night-3/
LOCATION:plan B Taphouse\, 129 W 5th St\,\, Hanford\, CA\, 93230\, United States
CATEGORIES:Featured
ATTACH;FMTTYPE=image/jpeg:https://planbtaphouse.com/wp-content/uploads/2024/04/Karaoke.jpg
END:VEVENT
BEGIN:VEVENT
DTSTART;VALUE=DATE:20241012
DTEND;VALUE=DATE:20241013
DTSTAMP:20260419T152556
CREATED:20240922T185047Z
LAST-MODIFIED:20241011T050820Z
UID:1619-1728691200-1728777599@planbtaphouse.com
SUMMARY:Closed Oct 12th
DESCRIPTION:Hello everyone\, we will be closed for the night on Oct 12th. If you have any questions please reach out to us ahead of time. \n 
URL:https://planbtaphouse.com/event/closed-oct-10th/
LOCATION:CA
CATEGORIES:Featured
ATTACH;FMTTYPE=image/jpeg:https://planbtaphouse.com/wp-content/uploads/2023/03/home_slider_v2.jpg
END:VEVENT
BEGIN:VEVENT
DTSTART;VALUE=DATE:20241010
DTEND;VALUE=DATE:20241011
DTSTAMP:20260419T152556
CREATED:20240411T202405Z
LAST-MODIFIED:20240922T182436Z
UID:1569-1728518400-1728604799@planbtaphouse.com
SUMMARY:Karaoke Night
DESCRIPTION:Come in. Have some brews and sing your heart out.
URL:https://planbtaphouse.com/event/karaoke-night/
LOCATION:plan B Taphouse\, 129 W 5th St\,\, Hanford\, CA\, 93230\, United States
CATEGORIES:Featured
ATTACH;FMTTYPE=image/jpeg:https://planbtaphouse.com/wp-content/uploads/2024/04/Karaoke.jpg
END:VEVENT
BEGIN:VEVENT
DTSTART;VALUE=DATE:20241005
DTEND;VALUE=DATE:20241006
DTSTAMP:20260419T152556
CREATED:20240922T184721Z
LAST-MODIFIED:20240922T184721Z
UID:1615-1728086400-1728172799@planbtaphouse.com
SUMMARY:Rooster's BBQ
DESCRIPTION:Smoked BBQ made on site. Served from 5pm to sellout.
URL:https://planbtaphouse.com/event/roosters-bbq/
LOCATION:plan B Taphouse\, 129 W 5th St\,\, Hanford\, CA\, 93230\, United States
CATEGORIES:Featured
ATTACH;FMTTYPE=image/png:https://planbtaphouse.com/wp-content/uploads/2023/06/Plan-B-Taphouse-Logo_White-v2.png
END:VEVENT
BEGIN:VEVENT
DTSTART;VALUE=DATE:20241004
DTEND;VALUE=DATE:20241005
DTSTAMP:20260419T152556
CREATED:20240922T184412Z
LAST-MODIFIED:20240922T184412Z
UID:1613-1728000000-1728086399@planbtaphouse.com
SUMMARY:Chef Gray
DESCRIPTION:Amazing food made from scratch.
URL:https://planbtaphouse.com/event/chef-gray-2/
LOCATION:plan B Taphouse\, 129 W 5th St\,\, Hanford\, CA\, 93230\, United States
CATEGORIES:Featured
ATTACH;FMTTYPE=image/jpeg:https://planbtaphouse.com/wp-content/uploads/2024/09/chef-gray.jpg
END:VEVENT
BEGIN:VEVENT
DTSTART;VALUE=DATE:20241004
DTEND;VALUE=DATE:20241005
DTSTAMP:20260419T152556
CREATED:20230815T013821Z
LAST-MODIFIED:20240922T184514Z
UID:1461-1728000000-1728086399@planbtaphouse.com
SUMMARY:Roger Perry
DESCRIPTION:Roger Perry (@roger.perry.2455) • Instagram photos and videos
URL:https://planbtaphouse.com/event/roger-perry/
LOCATION:plan B Taphouse\, 129 W 5th St\,\, Hanford\, CA\, 93230\, United States
CATEGORIES:Featured
ATTACH;FMTTYPE=image/png:https://planbtaphouse.com/wp-content/uploads/2023/06/Plan-B-Taphouse-Logo_White-v2.png
END:VEVENT
BEGIN:VEVENT
DTSTART;VALUE=DATE:20241003
DTEND;VALUE=DATE:20241004
DTSTAMP:20260419T152556
CREATED:20240922T184209Z
LAST-MODIFIED:20240922T184209Z
UID:1609-1727913600-1727999999@planbtaphouse.com
SUMMARY:Young kidz
DESCRIPTION:Joseph Michael Young – TheYoungKidz
URL:https://planbtaphouse.com/event/young-kidz/
LOCATION:plan B Taphouse\, 129 W 5th St\,\, Hanford\, CA\, 93230\, United States
CATEGORIES:Featured
ATTACH;FMTTYPE=image/webp:https://planbtaphouse.com/wp-content/uploads/2024/09/young-kidz.webp
END:VEVENT
BEGIN:VEVENT
DTSTART;VALUE=DATE:20241002
DTEND;VALUE=DATE:20241003
DTSTAMP:20260419T152556
CREATED:20240922T183643Z
LAST-MODIFIED:20240922T183643Z
UID:1606-1727827200-1727913599@planbtaphouse.com
SUMMARY:Poo McGoochie
DESCRIPTION:Poo McGoochie | Facebook
URL:https://planbtaphouse.com/event/poo-mcgoochie/
LOCATION:plan B Taphouse\, 129 W 5th St\,\, Hanford\, CA\, 93230\, United States
CATEGORIES:Featured
ATTACH;FMTTYPE=image/jpeg:https://planbtaphouse.com/wp-content/uploads/2024/09/poo-mcgoochie.jpg
END:VEVENT
BEGIN:VEVENT
DTSTART;VALUE=DATE:20241002
DTEND;VALUE=DATE:20241003
DTSTAMP:20260419T152556
CREATED:20230815T013611Z
LAST-MODIFIED:20240922T183727Z
UID:1458-1727827200-1727913599@planbtaphouse.com
SUMMARY:Sam's Island Barbeque
DESCRIPTION:Sam’s Island Barbeque (@samsislandbarbeque) • Instagram photos and videos
URL:https://planbtaphouse.com/event/sams-island-barbeque/
LOCATION:plan B Taphouse\, 129 W 5th St\,\, Hanford\, CA\, 93230\, United States
CATEGORIES:Featured
ATTACH;FMTTYPE=image/jpeg:https://planbtaphouse.com/wp-content/uploads/2023/08/Sams-Island-Barbeque.jpg
END:VEVENT
BEGIN:VEVENT
DTSTART;VALUE=DATE:20240928
DTEND;VALUE=DATE:20240929
DTSTAMP:20260419T152556
CREATED:20240922T183048Z
LAST-MODIFIED:20240922T183048Z
UID:1603-1727481600-1727567999@planbtaphouse.com
SUMMARY:Chef Gray
DESCRIPTION:Amazing food made from scratch
URL:https://planbtaphouse.com/event/chef-gray/
LOCATION:plan B Taphouse\, 129 W 5th St\,\, Hanford\, CA\, 93230\, United States
CATEGORIES:Featured
ATTACH;FMTTYPE=image/jpeg:https://planbtaphouse.com/wp-content/uploads/2024/09/chef-gray.jpg
END:VEVENT
BEGIN:VEVENT
DTSTART;VALUE=DATE:20240928
DTEND;VALUE=DATE:20240929
DTSTAMP:20260419T152556
CREATED:20230815T014214Z
LAST-MODIFIED:20240922T182310Z
UID:1466-1727481600-1727567999@planbtaphouse.com
SUMMARY:Bearded Uke
DESCRIPTION:Edward Hernandez 😊🤙🏽🤘🏾🎵🎵 (@thebeardeduke) • Instagram photos and videos \n 
URL:https://planbtaphouse.com/event/bearded-uke/
LOCATION:plan B Taphouse\, 129 W 5th St\,\, Hanford\, CA\, 93230\, United States
CATEGORIES:Featured
ATTACH;FMTTYPE=image/png:https://planbtaphouse.com/wp-content/uploads/2023/06/Plan-B-Taphouse-Logo_White-v2.png
END:VEVENT
BEGIN:VEVENT
DTSTART;VALUE=DATE:20240927
DTEND;VALUE=DATE:20240928
DTSTAMP:20260419T152556
CREATED:20240922T181920Z
LAST-MODIFIED:20240922T181920Z
UID:1600-1727395200-1727481599@planbtaphouse.com
SUMMARY:The Sea Rays
DESCRIPTION:Surf Rock Duo
URL:https://planbtaphouse.com/event/the-sea-rays/
LOCATION:plan B Taphouse\, 129 W 5th St\,\, Hanford\, CA\, 93230\, United States
CATEGORIES:Featured
ATTACH;FMTTYPE=image/jpeg:https://planbtaphouse.com/wp-content/uploads/2024/09/Sea-Rays.jpg
END:VEVENT
BEGIN:VEVENT
DTSTART;VALUE=DATE:20240927
DTEND;VALUE=DATE:20240928
DTSTAMP:20260419T152556
CREATED:20240922T181515Z
LAST-MODIFIED:20240922T181515Z
UID:1597-1727395200-1727481599@planbtaphouse.com
SUMMARY:Birrieria Rancho Viejo
DESCRIPTION:
URL:https://planbtaphouse.com/event/birrieria-rancho-viejo/
LOCATION:plan B Taphouse\, 129 W 5th St\,\, Hanford\, CA\, 93230\, United States
CATEGORIES:Featured
ATTACH;FMTTYPE=image/jpeg:https://planbtaphouse.com/wp-content/uploads/2024/09/BRV.jpg
END:VEVENT
BEGIN:VEVENT
DTSTART;VALUE=DATE:20240926
DTEND;VALUE=DATE:20240927
DTSTAMP:20260419T152556
CREATED:20240906T014322Z
LAST-MODIFIED:20240922T180800Z
UID:1593-1727308800-1727395199@planbtaphouse.com
SUMMARY:Rooster's Pit Stop BBQ
DESCRIPTION:Smoked BBQ sold from 5pm to sellout.
URL:https://planbtaphouse.com/event/roosters-pit-stop-bbq-2/
LOCATION:plan B Taphouse\, 129 W 5th St\,\, Hanford\, CA\, 93230\, United States
CATEGORIES:Featured
END:VEVENT
BEGIN:VEVENT
DTSTART;VALUE=DATE:20240926
DTEND;VALUE=DATE:20240927
DTSTAMP:20260419T152556
CREATED:20240511T230747Z
LAST-MODIFIED:20240922T180901Z
UID:1581-1727308800-1727395199@planbtaphouse.com
SUMMARY:Karaoke Night
DESCRIPTION:Come in. Have some brews and sing your heart out.
URL:https://planbtaphouse.com/event/karaoke-night-2/
LOCATION:plan B Taphouse\, 129 W 5th St\,\, Hanford\, CA\, 93230\, United States
CATEGORIES:Featured
ATTACH;FMTTYPE=image/jpeg:https://planbtaphouse.com/wp-content/uploads/2024/04/Karaoke.jpg
END:VEVENT
BEGIN:VEVENT
DTSTART;VALUE=DATE:20240925
DTEND;VALUE=DATE:20240926
DTSTAMP:20260419T152556
CREATED:20240601T180008Z
LAST-MODIFIED:20240922T180706Z
UID:1587-1727222400-1727308799@planbtaphouse.com
SUMMARY:Closed Sept 25\, 2024
DESCRIPTION:Hello everyone! We are closed today Sept 25 for personal events. Please feel to reach out if you have any concerns.
URL:https://planbtaphouse.com/event/closed-june-1-2024/
LOCATION:plan B Taphouse\, 129 W 5th St\,\, Hanford\, CA\, 93230\, United States
CATEGORIES:Featured
ATTACH;FMTTYPE=image/jpeg:https://planbtaphouse.com/wp-content/uploads/2023/06/Video-End-Shor-Still-v1.jpg
END:VEVENT
BEGIN:VEVENT
DTSTART;VALUE=DATE:20240914
DTEND;VALUE=DATE:20240915
DTSTAMP:20260419T152556
CREATED:20240307T034020Z
LAST-MODIFIED:20240906T015413Z
UID:1554-1726272000-1726358399@planbtaphouse.com
SUMMARY:Off Road Pizza
DESCRIPTION:https://www.facebook.com/offroadpizza/
URL:https://planbtaphouse.com/event/off-road-pizza/
LOCATION:plan B Taphouse\, 129 W 5th St\,\, Hanford\, CA\, 93230\, United States
CATEGORIES:Featured
ATTACH;FMTTYPE=image/jpeg:https://planbtaphouse.com/wp-content/uploads/2024/03/290387704_172530975228156_6374258545291447968_n.jpg
END:VEVENT
BEGIN:VEVENT
DTSTART;VALUE=DATE:20240907
DTEND;VALUE=DATE:20240908
DTSTAMP:20260419T152556
CREATED:20230715T205802Z
LAST-MODIFIED:20240906T013555Z
UID:1407-1725667200-1725753599@planbtaphouse.com
SUMMARY:Aaron Wolf
DESCRIPTION:Toshiko Japanese Cuisine
URL:https://planbtaphouse.com/event/aaron-wolf/
LOCATION:plan B Taphouse\, 129 W 5th St\,\, Hanford\, CA\, 93230\, United States
CATEGORIES:Featured
ATTACH;FMTTYPE=image/jpeg:https://planbtaphouse.com/wp-content/uploads/2023/07/Aaron-Wolf.jpg
END:VEVENT
BEGIN:VEVENT
DTSTART;VALUE=DATE:20240531
DTEND;VALUE=DATE:20240601
DTSTAMP:20260419T152556
CREATED:20240511T231625Z
LAST-MODIFIED:20240511T231625Z
UID:1583-1717113600-1717199999@planbtaphouse.com
SUMMARY:No Voodoo Here
DESCRIPTION:No Voodoo Here | Lemoore CA | Facebook
URL:https://planbtaphouse.com/event/no-voodoo-here/
LOCATION:plan B Taphouse\, 129 W 5th St\,\, Hanford\, CA\, 93230\, United States
CATEGORIES:Featured
ATTACH;FMTTYPE=image/jpeg:https://planbtaphouse.com/wp-content/uploads/2024/05/No-Voodoo-Here.jpg
END:VEVENT
BEGIN:VEVENT
DTSTART;VALUE=DATE:20240525
DTEND;VALUE=DATE:20240526
DTSTAMP:20260419T152556
CREATED:20230815T014325Z
LAST-MODIFIED:20240511T231026Z
UID:1468-1716595200-1716681599@planbtaphouse.com
SUMMARY:Michael Walker
DESCRIPTION:Michael Walker (@michaelwalkercountry) • Instagram photos and videos
URL:https://planbtaphouse.com/event/michael-walker/
LOCATION:plan B Taphouse\, 129 W 5th St\,\, Hanford\, CA\, 93230\, United States
CATEGORIES:Featured
ATTACH;FMTTYPE=image/png:https://planbtaphouse.com/wp-content/uploads/2023/04/Plan-B-Taphouse-logo-white-600x600-v1.png
END:VEVENT
BEGIN:VEVENT
DTSTART;VALUE=DATE:20240524
DTEND;VALUE=DATE:20240525
DTSTAMP:20260419T152556
CREATED:20230716T194534Z
LAST-MODIFIED:20240511T231821Z
UID:1424-1716508800-1716595199@planbtaphouse.com
SUMMARY:Chemical Syndicate
DESCRIPTION:
URL:https://planbtaphouse.com/event/chemical-syndicate/
LOCATION:plan B Taphouse\, 129 W 5th St\,\, Hanford\, CA\, 93230\, United States
CATEGORIES:Featured
ATTACH;FMTTYPE=image/jpeg:https://planbtaphouse.com/wp-content/uploads/2023/07/Chemical-Syndicate.jpg
END:VEVENT
BEGIN:VEVENT
DTSTART;VALUE=DATE:20240511
DTEND;VALUE=DATE:20240512
DTSTAMP:20260419T152556
CREATED:20230611T045821Z
LAST-MODIFIED:20240511T230501Z
UID:1313-1715385600-1715471999@planbtaphouse.com
SUMMARY:The Secret Chiefs
DESCRIPTION:The Secret Chiefs (@wearethesecretchiefs) • Instagram photos and videos
URL:https://planbtaphouse.com/event/the-secret-chiefs/
LOCATION:plan B Taphouse\, 129 W 5th St\,\, Hanford\, CA\, 93230\, United States
CATEGORIES:Featured
END:VEVENT
BEGIN:VEVENT
DTSTART;VALUE=DATE:20240413
DTEND;VALUE=DATE:20240414
DTSTAMP:20260419T152556
CREATED:20240411T203559Z
LAST-MODIFIED:20240411T203559Z
UID:1574-1712966400-1713052799@planbtaphouse.com
SUMMARY:Josh Heinrichs w/ Pipe Down
DESCRIPTION:https://joshheinrichs.com/ \n  \nhttps://www.instagram.com/joshheinrichs/?hl=en
URL:https://planbtaphouse.com/event/josh-heinrichs-w-pipe-down/
LOCATION:plan B Taphouse\, 129 W 5th St\,\, Hanford\, CA\, 93230\, United States
CATEGORIES:Featured
ATTACH;FMTTYPE=image/jpeg:https://planbtaphouse.com/wp-content/uploads/2024/04/Josh-H-Pipe-Down-Hanford-plan-b-scaled.jpg
END:VEVENT
BEGIN:VEVENT
DTSTART;VALUE=DATE:20240412
DTEND;VALUE=DATE:20240413
DTSTAMP:20260419T152556
CREATED:20230815T011346Z
LAST-MODIFIED:20240411T202628Z
UID:1442-1712880000-1712966399@planbtaphouse.com
SUMMARY:Tim Mattos
DESCRIPTION:Timothy Mattos (@mattostimothy) • Instagram photos and videos
URL:https://planbtaphouse.com/event/tim-mattos/
LOCATION:plan B Taphouse\, 129 W 5th St\,\, Hanford\, CA\, 93230\, United States
CATEGORIES:Featured
ATTACH;FMTTYPE=image/jpeg:https://planbtaphouse.com/wp-content/uploads/2023/08/Tim-Mattos-at-plan-b-stage.jpg
END:VEVENT
BEGIN:VEVENT
DTSTART;VALUE=DATE:20240223
DTEND;VALUE=DATE:20240224
DTSTAMP:20260419T152556
CREATED:20240217T003659Z
LAST-MODIFIED:20240217T003659Z
UID:1530-1708646400-1708732799@planbtaphouse.com
SUMMARY:The Asian Taco
DESCRIPTION:https://www.facebook.com/theasiantaco/ \nhttps://www.instagram.com/the_azn_taco/
URL:https://planbtaphouse.com/event/the-asian-taco/
LOCATION:plan B Taphouse\, 129 W 5th St\,\, Hanford\, CA\, 93230\, United States
CATEGORIES:Featured
ATTACH;FMTTYPE=image/png:https://planbtaphouse.com/wp-content/uploads/2024/02/The-Asian-Taco.png
END:VEVENT
BEGIN:VEVENT
DTSTART;VALUE=DATE:20240105
DTEND;VALUE=DATE:20240117
DTSTAMP:20260419T152556
CREATED:20240102T233800Z
LAST-MODIFIED:20240102T234011Z
UID:1518-1704412800-1705449599@planbtaphouse.com
SUMMARY:Closed for maintenance.
DESCRIPTION:Hello all! \nWe will be closed for maintenance and much needed time off from January 5th to through to January 16th. Reopening on January 17th at 5pm. \nIf you have any inquiries\, feel free to contact us and we will try our best to still address things in a timely manner. \nThank you all! \nYour Friends at Plan B Taphouse
URL:https://planbtaphouse.com/event/closed-for-maintenance/
LOCATION:plan B Taphouse\, 129 W 5th St\,\, Hanford\, CA\, 93230\, United States
CATEGORIES:Featured
ATTACH;FMTTYPE=image/jpeg:https://planbtaphouse.com/wp-content/uploads/2023/06/Video-End-Shor-Still-v1.jpg
END:VEVENT
BEGIN:VEVENT
DTSTART;VALUE=DATE:20231213
DTEND;VALUE=DATE:20231214
DTSTAMP:20260419T152556
CREATED:20231206T212500Z
LAST-MODIFIED:20231206T212500Z
UID:1515-1702425600-1702511999@planbtaphouse.com
SUMMARY:Liquid Gravity Takeover
DESCRIPTION:
URL:https://planbtaphouse.com/event/liquid-gravity-takeover/
LOCATION:plan B Taphouse\, 129 W 5th St\,\, Hanford\, CA\, 93230\, United States
CATEGORIES:Featured
ATTACH;FMTTYPE=image/png:https://planbtaphouse.com/wp-content/uploads/2023/12/Liquid-Gravity.png
END:VEVENT
BEGIN:VEVENT
DTSTART;TZID=America/Los_Angeles:20231209T170000
DTEND;TZID=America/Los_Angeles:20231209T233000
DTSTAMP:20260419T152556
CREATED:20231206T210022Z
LAST-MODIFIED:20231206T212606Z
UID:1512-1702141200-1702164600@planbtaphouse.com
SUMMARY:Ugly Sweater Beer Crawl 2023
DESCRIPTION:Including all our drinking buddies\, get ready for this year’s crawl! Together with Huggy’s\, Quesadilla Gorilla\, Fatte Albert’s Pizza\, California Club\, and Hop Forged we will all be running specials through the night\, starting at 5pm. Check with each location to see those specials but know that downtown Hanford will be having a cheerful kickoff to the season.
URL:https://planbtaphouse.com/event/ugly-sweater-beer-crawl-2023/
LOCATION:plan B Taphouse\, 129 W 5th St\,\, Hanford\, CA\, 93230\, United States
CATEGORIES:Featured
ATTACH;FMTTYPE=image/jpeg:https://planbtaphouse.com/wp-content/uploads/2023/12/Beer-Crawl-Flyer-2023.jpg
END:VEVENT
BEGIN:VEVENT
DTSTART;VALUE=DATE:20231014
DTEND;VALUE=DATE:20231015
DTSTAMP:20260419T152556
CREATED:20230611T045623Z
LAST-MODIFIED:20230929T015711Z
UID:1308-1697241600-1697327999@planbtaphouse.com
SUMMARY:The Green Machine Collective
DESCRIPTION:
URL:https://planbtaphouse.com/event/the-green-machine-collective/
LOCATION:plan B Taphouse\, 129 W 5th St\,\, Hanford\, CA\, 93230\, United States
CATEGORIES:Featured
ATTACH;FMTTYPE=image/jpeg:https://planbtaphouse.com/wp-content/uploads/2023/06/Green-machine-1-1.jpg
END:VEVENT
END:VCALENDAR